View In:
ArcGIS JavaScript
ArcGIS Online Map Viewer
ArcGIS Earth
ArcGIS Pro
Service Description:
Map Name: Map3
Legend
All Layers and Tables
Dynamic Legend
Dynamic All Layers
Layers:
Description:
Service Item Id: be977f0d067045358fbf2fb3ad7c9160
Copyright Text:
Spatial Reference:
0
(0)
LatestVCSWkid(0)
Single Fused Map Cache: true
Tile Info:
- Height: 256.0
- Width: 256.0
- DPI: 96.0
-
Levels of Detail: 19
-
Level ID: 0
[ Start Tile, End Tile ]
- Resolution: 944782.9210729178
- Scale: 1.0883899250760012E9
-
Level ID: 1
[ Start Tile, End Tile ]
- Resolution: 472391.4605364589
- Scale: 5.441949625380006E8
-
Level ID: 2
[ Start Tile, End Tile ]
- Resolution: 236195.73026822944
- Scale: 2.720974812690003E8
-
Level ID: 3
[ Start Tile, End Tile ]
- Resolution: 118097.86513411472
- Scale: 1.3604874063450015E8
-
Level ID: 4
[ Start Tile, End Tile ]
- Resolution: 59048.93256705736
- Scale: 6.802437031725007E7
-
Level ID: 5
[ Start Tile, End Tile ]
- Resolution: 29524.46628352868
- Scale: 3.401218515862504E7
-
Level ID: 6
[ Start Tile, End Tile ]
- Resolution: 14762.23314176434
- Scale: 1.700609257931252E7
-
Level ID: 8
[ Start Tile, End Tile ]
- Resolution: 3690.558285441085
- Scale: 4251523.14482813
-
Level ID: 9
[ Start Tile, End Tile ]
- Resolution: 1845.2791427205425
- Scale: 2125761.572414065
-
Level ID: 10
[ Start Tile, End Tile ]
- Resolution: 922.6395713602712
- Scale: 1062880.7862070324
-
Level ID: 11
[ Start Tile, End Tile ]
- Resolution: 461.3197856801356
- Scale: 531440.3931035162
-
Level ID: 12
[ Start Tile, End Tile ]
- Resolution: 230.6598928400678
- Scale: 265720.1965517581
-
Level ID: 13
[ Start Tile, End Tile ]
- Resolution: 115.3299464200339
- Scale: 132860.09827587905
-
Level ID: 14
[ Start Tile, End Tile ]
- Resolution: 57.66497321001695
- Scale: 66430.04913793952
-
Level ID: 15
[ Start Tile, End Tile ]
- Resolution: 28.832486605008476
- Scale: 33215.02456896976
-
Level ID: 16
[ Start Tile, End Tile ]
- Resolution: 14.416243302504238
- Scale: 16607.51228448488
-
Level ID: 17
[ Start Tile, End Tile ]
- Resolution: 7.208121651252119
- Scale: 8303.75614224244
-
Level ID: 18
[ Start Tile, End Tile ]
- Resolution: 3.6040608256260596
- Scale: 4151.87807112122
- Format: PNG
- Compression Quality: 0.0
- Origin: X: -1.189637099603256E8
Y: 1.1364545394829753E8
- Spatial Reference: 0
(0)
LatestVCSWkid(0)
Storage Info:
- Storage Format: esriMapCacheStorageModeCompactV2
- Packet Size: 128
Initial Extent:
XMin: 2004288.269818832
YMin: 417607.0890562833
XMax: 2065044.5878604145
YMax: 456326.20905626233
Spatial Reference: 0
(0)
LatestVCSWkid(0)
Full Extent:
XMin: 1993750.625
YMin: 410000.6250000298
XMax: 2053749.374999985
YMax: 464999.375
Spatial Reference: 0
(0)
LatestVCSWkid(0)
Units: esriFeet
Supported Image Format Types: PNG32,PNG24,PNG,JPG,DIB,TIFF,EMF,PS,PDF,GIF,SVG,SVGZ,BMP
Document Info:
Title: Map3
Author:
Comments:
Subject:
Category:
Keywords:
AntialiasingMode: Fast
TextAntialiasingMode: Force
Supports Dynamic Layers: true
Resampling: false
MaxRecordCount: 2000
MaxSelectionCount: 2000
MaxImageHeight: 4096
MaxImageWidth: 4096
Supported Query Formats: JSON, geoJSON, PBF
Supports Query Data Elements: true
Min Scale: 33215.02456896976
Max Scale: 4151.87807112122
Min LOD: 15
Max LOD: 18
Supports Datum Transformation: true
Child Resources:
Info
Dynamic Layer
Supported Operations:
Export Map
Identify
QueryLegends
QueryDomains
Find
Return Updates