{
 "currentVersion": 11.5,
 "cimVersion": "3.5.0",
 "serviceDescription": "",
 "mapName": "Map3",
 "description": "",
 "copyrightText": "",
 "supportsDynamicLayers": true,
 "layers": [
  {
   "id": 0,
   "name": "Contour_Contour1",
   "parentLayerId": -1,
   "defaultVisibility": true,
   "subLayerIds": null,
   "minScale": 0,
   "maxScale": 0,
   "type": "Feature Layer",
   "geometryType": "esriGeometryPolyline",
   "supportsDynamicLegends": true
  }
 ],
 "tables": [],
 "spatialReference": {
  "wkt2": "PROJCRS[\"NAD_1983_StatePlane_Ohio_North_FIPS_3401_Feet\",BASEGEOGCRS[\"GCS_North_American_1983\",DATUM[\"D_North_American_1983\",ELLIPSOID[\"GRS_1980\",6378137.0,298.257222101,LENGTHUNIT[\"Meter\",1.0]]],PRIMEM[\"Greenwich\",0.0,ANGLEUNIT[\"Degree\",0.0174532925199433]],CS[ellipsoidal,2],AXIS[\"Latitude (lat)\",north,ORDER[1]],AXIS[\"Longitude (lon)\",east,ORDER[2]],ANGLEUNIT[\"Degree\",0.0174532925199433]],CONVERSION[\"Lambert_Conformal_Conic\",METHOD[\"Lambert_Conformal_Conic\"],PARAMETER[\"False_Easting\",1968503.93700787,LENGTHUNIT[\"Foot\",0.3048]],PARAMETER[\"False_Northing\",0.0,LENGTHUNIT[\"Foot\",0.3048]],PARAMETER[\"Central_Meridian\",-82.5,ANGLEUNIT[\"Degree\",0.0174532925199433]],PARAMETER[\"Standard_Parallel_1\",40.4333333333333,ANGLEUNIT[\"Degree\",0.0174532925199433]],PARAMETER[\"Standard_Parallel_2\",41.7,ANGLEUNIT[\"Degree\",0.0174532925199433]],PARAMETER[\"Latitude_Of_Origin\",39.6666666666667,ANGLEUNIT[\"Degree\",0.0174532925199433]]],CS[Cartesian,2],AXIS[\"Easting (X)\",east,ORDER[1]],AXIS[\"Northing (Y)\",north,ORDER[2]],LENGTHUNIT[\"Foot\",0.3048]]",
  "wkt": "PROJCS[\"NAD_1983_StatePlane_Ohio_North_FIPS_3401_Feet\",GEOGCS[\"GCS_North_American_1983\",DATUM[\"D_North_American_1983\",SPHEROID[\"GRS_1980\",6378137.0,298.257222101]],PRIMEM[\"Greenwich\",0.0],UNIT[\"Degree\",0.0174532925199433]],PROJECTION[\"Lambert_Conformal_Conic\"],PARAMETER[\"False_Easting\",1968503.93700787],PARAMETER[\"False_Northing\",0.0],PARAMETER[\"Central_Meridian\",-82.5],PARAMETER[\"Standard_Parallel_1\",40.4333333333333],PARAMETER[\"Standard_Parallel_2\",41.7],PARAMETER[\"Latitude_Of_Origin\",39.6666666666667],UNIT[\"Foot\",0.3048]]",
  "xyTolerance": 0.0032808398950131233,
  "zTolerance": 0.001,
  "mTolerance": 0.001,
  "falseX": -118964100,
  "falseY": -96374000,
  "xyUnits": 3048,
  "falseZ": -100000,
  "zUnits": 10000,
  "falseM": -100000,
  "mUnits": 10000
 },
 "singleFusedMapCache": true,
 "tileInfo": {
  "rows": 256,
  "cols": 256,
  "dpi": 96,
  "format": "PNG",
  "compressionQuality": 0,
  "origin": {
   "x": -1.189637099603256E8,
   "y": 1.1364545394829753E8
  },
  "spatialReference": {
   "wkt2": "PROJCRS[\"NAD_1983_StatePlane_Ohio_North_FIPS_3401_Feet\",BASEGEOGCRS[\"GCS_North_American_1983\",DATUM[\"D_North_American_1983\",ELLIPSOID[\"GRS_1980\",6378137.0,298.257222101,LENGTHUNIT[\"Meter\",1.0]]],PRIMEM[\"Greenwich\",0.0,ANGLEUNIT[\"Degree\",0.0174532925199433]],CS[ellipsoidal,2],AXIS[\"Latitude (lat)\",north,ORDER[1]],AXIS[\"Longitude (lon)\",east,ORDER[2]],ANGLEUNIT[\"Degree\",0.0174532925199433]],CONVERSION[\"Lambert_Conformal_Conic\",METHOD[\"Lambert_Conformal_Conic\"],PARAMETER[\"False_Easting\",1968503.93700787,LENGTHUNIT[\"Foot (International)\",0.3048]],PARAMETER[\"False_Northing\",0.0,LENGTHUNIT[\"Foot (International)\",0.3048]],PARAMETER[\"Central_Meridian\",-82.5,ANGLEUNIT[\"Degree\",0.0174532925199433]],PARAMETER[\"Standard_Parallel_1\",40.4333333333333,ANGLEUNIT[\"Degree\",0.0174532925199433]],PARAMETER[\"Standard_Parallel_2\",41.7,ANGLEUNIT[\"Degree\",0.0174532925199433]],PARAMETER[\"Latitude_Of_Origin\",39.6666666666667,ANGLEUNIT[\"Degree\",0.0174532925199433]]],CS[Cartesian,2],AXIS[\"Easting (X)\",east,ORDER[1]],AXIS[\"Northing (Y)\",north,ORDER[2]],LENGTHUNIT[\"Foot (International)\",0.3048]]",
   "wkt": "PROJCS[\"NAD_1983_StatePlane_Ohio_North_FIPS_3401_Feet\",GEOGCS[\"GCS_North_American_1983\",DATUM[\"D_North_American_1983\",SPHEROID[\"GRS_1980\",6378137.0,298.257222101]],PRIMEM[\"Greenwich\",0.0],UNIT[\"Degree\",0.0174532925199433]],PROJECTION[\"Lambert_Conformal_Conic\"],PARAMETER[\"False_Easting\",1968503.93700787],PARAMETER[\"False_Northing\",0.0],PARAMETER[\"Central_Meridian\",-82.5],PARAMETER[\"Standard_Parallel_1\",40.4333333333333],PARAMETER[\"Standard_Parallel_2\",41.7],PARAMETER[\"Latitude_Of_Origin\",39.6666666666667],UNIT[\"Foot (International)\",0.3048]]",
   "xyTolerance": 0.0032808398950131233,
   "zTolerance": 0.001,
   "mTolerance": 0.001,
   "falseX": -118964100,
   "falseY": -96374000,
   "xyUnits": 3048,
   "falseZ": -100000,
   "zUnits": 10000,
   "falseM": -100000,
   "mUnits": 10000
  },
  "lods": [
   {
    "level": 0,
    "resolution": 944782.9210729178,
    "scale": 1.0883899250760012E9
   },
   {
    "level": 1,
    "resolution": 472391.4605364589,
    "scale": 5.441949625380006E8
   },
   {
    "level": 2,
    "resolution": 236195.73026822944,
    "scale": 2.720974812690003E8
   },
   {
    "level": 3,
    "resolution": 118097.86513411472,
    "scale": 1.3604874063450015E8
   },
   {
    "level": 4,
    "resolution": 59048.93256705736,
    "scale": 6.802437031725007E7
   },
   {
    "level": 5,
    "resolution": 29524.46628352868,
    "scale": 3.401218515862504E7
   },
   {
    "level": 6,
    "resolution": 14762.23314176434,
    "scale": 1.700609257931252E7
   },
   {
    "level": 7,
    "resolution": 7381.11657088217,
    "scale": 8503046.28965626
   },
   {
    "level": 8,
    "resolution": 3690.558285441085,
    "scale": 4251523.14482813
   },
   {
    "level": 9,
    "resolution": 1845.2791427205425,
    "scale": 2125761.572414065
   },
   {
    "level": 10,
    "resolution": 922.6395713602712,
    "scale": 1062880.7862070324
   },
   {
    "level": 11,
    "resolution": 461.3197856801356,
    "scale": 531440.3931035162
   },
   {
    "level": 12,
    "resolution": 230.6598928400678,
    "scale": 265720.1965517581
   },
   {
    "level": 13,
    "resolution": 115.3299464200339,
    "scale": 132860.09827587905
   },
   {
    "level": 14,
    "resolution": 57.66497321001695,
    "scale": 66430.04913793952
   },
   {
    "level": 15,
    "resolution": 28.832486605008476,
    "scale": 33215.02456896976
   },
   {
    "level": 16,
    "resolution": 14.416243302504238,
    "scale": 16607.51228448488
   },
   {
    "level": 17,
    "resolution": 7.208121651252119,
    "scale": 8303.75614224244
   },
   {
    "level": 18,
    "resolution": 3.6040608256260596,
    "scale": 4151.87807112122
   }
  ]
 },
 "storageInfo": {
  "storageFormat": "esriMapCacheStorageModeCompactV2",
  "packetSize": 128
 },
 "initialExtent": {
  "xmin": 2004288.269818832,
  "ymin": 417607.0890562833,
  "xmax": 2065044.5878604145,
  "ymax": 456326.20905626233,
  "spatialReference": {
   "wkt2": "PROJCRS[\"NAD_1983_StatePlane_Ohio_North_FIPS_3401_Feet\",BASEGEOGCRS[\"GCS_North_American_1983\",DATUM[\"D_North_American_1983\",ELLIPSOID[\"GRS_1980\",6378137.0,298.257222101,LENGTHUNIT[\"Meter\",1.0]]],PRIMEM[\"Greenwich\",0.0,ANGLEUNIT[\"Degree\",0.0174532925199433]],CS[ellipsoidal,2],AXIS[\"Latitude (lat)\",north,ORDER[1]],AXIS[\"Longitude (lon)\",east,ORDER[2]],ANGLEUNIT[\"Degree\",0.0174532925199433]],CONVERSION[\"Lambert_Conformal_Conic\",METHOD[\"Lambert_Conformal_Conic\"],PARAMETER[\"False_Easting\",1968503.93700787,LENGTHUNIT[\"Foot\",0.3048]],PARAMETER[\"False_Northing\",0.0,LENGTHUNIT[\"Foot\",0.3048]],PARAMETER[\"Central_Meridian\",-82.5,ANGLEUNIT[\"Degree\",0.0174532925199433]],PARAMETER[\"Standard_Parallel_1\",40.4333333333333,ANGLEUNIT[\"Degree\",0.0174532925199433]],PARAMETER[\"Standard_Parallel_2\",41.7,ANGLEUNIT[\"Degree\",0.0174532925199433]],PARAMETER[\"Latitude_Of_Origin\",39.6666666666667,ANGLEUNIT[\"Degree\",0.0174532925199433]]],CS[Cartesian,2],AXIS[\"Easting (X)\",east,ORDER[1]],AXIS[\"Northing (Y)\",north,ORDER[2]],LENGTHUNIT[\"Foot\",0.3048]]",
   "wkt": "PROJCS[\"NAD_1983_StatePlane_Ohio_North_FIPS_3401_Feet\",GEOGCS[\"GCS_North_American_1983\",DATUM[\"D_North_American_1983\",SPHEROID[\"GRS_1980\",6378137.0,298.257222101]],PRIMEM[\"Greenwich\",0.0],UNIT[\"Degree\",0.0174532925199433]],PROJECTION[\"Lambert_Conformal_Conic\"],PARAMETER[\"False_Easting\",1968503.93700787],PARAMETER[\"False_Northing\",0.0],PARAMETER[\"Central_Meridian\",-82.5],PARAMETER[\"Standard_Parallel_1\",40.4333333333333],PARAMETER[\"Standard_Parallel_2\",41.7],PARAMETER[\"Latitude_Of_Origin\",39.6666666666667],UNIT[\"Foot\",0.3048]]",
   "xyTolerance": 0.0032808398950131233,
   "zTolerance": 0.001,
   "mTolerance": 0.001,
   "falseX": -118964100,
   "falseY": -96374000,
   "xyUnits": 3048,
   "falseZ": -100000,
   "zUnits": 10000,
   "falseM": -100000,
   "mUnits": 10000
  }
 },
 "fullExtent": {
  "xmin": 1993750.625,
  "ymin": 410000.6250000298,
  "xmax": 2053749.374999985,
  "ymax": 464999.375,
  "spatialReference": {
   "wkt2": "PROJCRS[\"NAD_1983_StatePlane_Ohio_North_FIPS_3401_Feet\",BASEGEOGCRS[\"GCS_North_American_1983\",DATUM[\"D_North_American_1983\",ELLIPSOID[\"GRS_1980\",6378137.0,298.257222101,LENGTHUNIT[\"Meter\",1.0]]],PRIMEM[\"Greenwich\",0.0,ANGLEUNIT[\"Degree\",0.0174532925199433]],CS[ellipsoidal,2],AXIS[\"Latitude (lat)\",north,ORDER[1]],AXIS[\"Longitude (lon)\",east,ORDER[2]],ANGLEUNIT[\"Degree\",0.0174532925199433]],CONVERSION[\"Lambert_Conformal_Conic\",METHOD[\"Lambert_Conformal_Conic\"],PARAMETER[\"False_Easting\",1968503.93700787,LENGTHUNIT[\"Foot\",0.3048]],PARAMETER[\"False_Northing\",0.0,LENGTHUNIT[\"Foot\",0.3048]],PARAMETER[\"Central_Meridian\",-82.5,ANGLEUNIT[\"Degree\",0.0174532925199433]],PARAMETER[\"Standard_Parallel_1\",40.4333333333333,ANGLEUNIT[\"Degree\",0.0174532925199433]],PARAMETER[\"Standard_Parallel_2\",41.7,ANGLEUNIT[\"Degree\",0.0174532925199433]],PARAMETER[\"Latitude_Of_Origin\",39.6666666666667,ANGLEUNIT[\"Degree\",0.0174532925199433]]],CS[Cartesian,2],AXIS[\"Easting (X)\",east,ORDER[1]],AXIS[\"Northing (Y)\",north,ORDER[2]],LENGTHUNIT[\"Foot\",0.3048]]",
   "wkt": "PROJCS[\"NAD_1983_StatePlane_Ohio_North_FIPS_3401_Feet\",GEOGCS[\"GCS_North_American_1983\",DATUM[\"D_North_American_1983\",SPHEROID[\"GRS_1980\",6378137.0,298.257222101]],PRIMEM[\"Greenwich\",0.0],UNIT[\"Degree\",0.0174532925199433]],PROJECTION[\"Lambert_Conformal_Conic\"],PARAMETER[\"False_Easting\",1968503.93700787],PARAMETER[\"False_Northing\",0.0],PARAMETER[\"Central_Meridian\",-82.5],PARAMETER[\"Standard_Parallel_1\",40.4333333333333],PARAMETER[\"Standard_Parallel_2\",41.7],PARAMETER[\"Latitude_Of_Origin\",39.6666666666667],UNIT[\"Foot\",0.3048]]",
   "xyTolerance": 0.0032808398950131233,
   "zTolerance": 0.001,
   "mTolerance": 0.001,
   "falseX": -118964100,
   "falseY": -96374000,
   "xyUnits": 3048,
   "falseZ": -100000,
   "zUnits": 10000,
   "falseM": -100000,
   "mUnits": 10000
  }
 },
 "datesInUnknownTimezone": false,
 "minScale": 33215.02456896976,
 "maxScale": 4151.87807112122,
 "minLOD": 15,
 "maxLOD": 18,
 "units": "esriFeet",
 "supportedImageFormatTypes": "PNG32,PNG24,PNG,JPG,DIB,TIFF,EMF,PS,PDF,GIF,SVG,SVGZ,BMP",
 "documentInfo": {
  "Title": "Map3",
  "Author": "",
  "Comments": "",
  "Subject": "",
  "Category": "",
  "Version": "3.3.0",
  "AntialiasingMode": "Fast",
  "TextAntialiasingMode": "Force",
  "Keywords": ""
 },
 "supportsQueryDomains": true,
 "capabilities": "Map,Query,Data",
 "supportedQueryFormats": "JSON, geoJSON, PBF",
 "exportTilesAllowed": false,
 "referenceScale": 0.0,
 "datumTransformations": [
  {
   "geoTransforms": [
    {
     "wkid": 108190,
     "latestWkid": 108190,
     "transformForward": true,
     "name": "WGS_1984_(ITRF00)_To_NAD_1983"
    }
   ]
  },
  {
   "geoTransforms": [
    {
     "wkid": 108190,
     "latestWkid": 108190,
     "transformForward": false,
     "name": "WGS_1984_(ITRF00)_To_NAD_1983"
    }
   ]
  },
  {
   "geoTransforms": [
    {
     "wkid": 108190,
     "latestWkid": 108190,
     "transformForward": true,
     "name": "WGS_1984_(ITRF00)_To_NAD_1983"
    }
   ]
  },
  {
   "geoTransforms": [
    {
     "wkid": 108190,
     "latestWkid": 108190,
     "transformForward": false,
     "name": "WGS_1984_(ITRF00)_To_NAD_1983"
    }
   ]
  }
 ],
 "supportsDatumTransformation": true,
 "archivingInfo": {
  "supportsHistoricMoment": false
 },
 "supportsClipping": true,
 "supportsSpatialFilter": true,
 "supportsTimeRelation": true,
 "supportsQueryDataElements": true,
 "mapUnits": {
  "uwkid": 9002
 },
 "maxSelectionCount": 2000,
 "maxRecordCount": 2000,
 "maxImageHeight": 4096,
 "maxImageWidth": 4096,
 "supportedExtensions": "",
 "resampling": false,
 "serviceItemId": "be977f0d067045358fbf2fb3ad7c9160"
}
